BEGIN:VCALENDAR
VERSION:2.0
PRODID:-//Mannix Marketing//Albany.com ICS//EN
BEGIN:VEVENT
DTEND:20260425T140000
DTSTART:20260425T110000
SUMMARY:Annual Breyer Fun Day
DESCRIPTION:Stop in and enjoy the annual Breyer Fun Day! Featuring a Breyer Model Horse Show, Raffles, Create your own Breyer Stablemate Model, and more. [Full Details at https://www.albany.com/event/breyer-fun-day-217081/]
URL;VALUE=URI:https://www.albany.com/event/breyer-fun-day-217081/
UID:https://www.albany.com/event/breyer-fun-day-217081/
DTSTAMP:20260425T063530
ORGANIZER;CN=Albany.com:X-ADDR:https://www.albany.com/event/breyer-fun-day-217081/
LOCATION:
END:VEVENT
END:VCALENDAR
