BEGIN:VCALENDAR
VERSION:2.0
PRODID:-//Mannix Marketing//Albany.com ICS//EN
BEGIN:VEVENT
DTSTART:20260426T093000
SUMMARY:Hero 5K for Autism - Autism Society Greater Hudson Region
DESCRIPTION:Unleash your inner hero at the Hero 5K for Autism! [Full Details at https://www.albany.com/event/hero-5k-for-autism-autism-society-greater-hudson-region-259110/]
URL;VALUE=URI:https://www.albany.com/event/hero-5k-for-autism-autism-society-greater-hudson-region-259110/
UID:https://www.albany.com/event/hero-5k-for-autism-autism-society-greater-hudson-region-259110/
DTSTAMP:20260421T002756
ORGANIZER;CN=Albany.com:X-ADDR:https://www.albany.com/event/hero-5k-for-autism-autism-society-greater-hudson-region-259110/
LOCATION:
END:VEVENT
END:VCALENDAR
