BEGIN:VCALENDAR
VERSION:2.0
PRODID:-//Mannix Marketing//Albany.com ICS//EN
BEGIN:VEVENT
DTEND:20260616T210000
DTSTART:20260616T180000
SUMMARY:Youth Climbing Club
DESCRIPTION:An evening for kids to meet up with other climbing enthusiasts and build strength and confidence in each other! [Full Details at https://www.albany.com/event/youth-climbing-club-274299/]
URL;VALUE=URI:https://www.albany.com/event/youth-climbing-club-274299/
UID:https://www.albany.com/event/youth-climbing-club-274299/
DTSTAMP:20260420T152902
ORGANIZER;CN=Albany.com:X-ADDR:https://www.albany.com/event/youth-climbing-club-274299/
LOCATION:
END:VEVENT
END:VCALENDAR
