BEGIN:VCALENDAR
VERSION:2.0
PRODID:-//Mannix Marketing//Albany.com ICS//EN
BEGIN:VEVENT
DTEND:20260530T220000
DTSTART:20260530T200000
SUMMARY:Spontaneous Broadway
DESCRIPTION:The all improvised musical comedy extravaganza!
LIMITED RUN! May 9, 16, 30, June 6 ONLY! [Full Details at https://www.albany.com/event/spontaneous-broadway-274757/]
URL;VALUE=URI:https://www.albany.com/event/spontaneous-broadway-274757/
UID:https://www.albany.com/event/spontaneous-broadway-274757/
DTSTAMP:20260422T020356
ORGANIZER;CN=Albany.com:X-ADDR:https://www.albany.com/event/spontaneous-broadway-274757/
LOCATION:
END:VEVENT
END:VCALENDAR
