BEGIN:VCALENDAR
VERSION:2.0
PRODID:-//Mannix Marketing//Albany.com ICS//EN
BEGIN:VEVENT
DTEND:20260421T170000
DTSTART:20260421T160000
SUMMARY:Awesome Animal Book Club: Snakes
DESCRIPTION:Join us as we celebrate awesome animals in children's literature! This month we will be reading books about snakes, having snacks, and making a craft. [Full Details at https://www.albany.com/event/awesome-animal-book-club-snakes-274985/]
URL;VALUE=URI:https://www.albany.com/event/awesome-animal-book-club-snakes-274985/
UID:https://www.albany.com/event/awesome-animal-book-club-snakes-274985/
DTSTAMP:20260420T141051
ORGANIZER;CN=Albany.com:X-ADDR:https://www.albany.com/event/awesome-animal-book-club-snakes-274985/
LOCATION:
END:VEVENT
END:VCALENDAR
