BEGIN:VCALENDAR
VERSION:2.0
PRODID:-//Mannix Marketing//Albany.com ICS//EN
BEGIN:VEVENT
DTEND:20260423T203000
DTSTART:20260423T193000
SUMMARY:Read the Rainbow Book Club
DESCRIPTION:The Court of the Dead by Rick Riordan. [Full Details at https://www.albany.com/event/read-the-rainbow-book-club-274986/]
URL;VALUE=URI:https://www.albany.com/event/read-the-rainbow-book-club-274986/
UID:https://www.albany.com/event/read-the-rainbow-book-club-274986/
DTSTAMP:20260420T141555
ORGANIZER;CN=Albany.com:X-ADDR:https://www.albany.com/event/read-the-rainbow-book-club-274986/
LOCATION:
END:VEVENT
END:VCALENDAR
