BEGIN:VCALENDAR
VERSION:2.0
PRODID:-//Mannix Marketing//Albany.com ICS//EN
BEGIN:VEVENT
DTSTART:20260422T170000
SUMMARY:Downtown Troy Earth Day Beautification Fundraiser
DESCRIPTION:Join us this Earth Day for a night at Mean Max Brew Works in support of making Downtown Troy greener, more vibrant, and more welcoming. [Full Details at https://www.albany.com/event/downtown-troy-earth-day-beautification-fundraiser-275007/]
URL;VALUE=URI:https://www.albany.com/event/downtown-troy-earth-day-beautification-fundraiser-275007/
UID:https://www.albany.com/event/downtown-troy-earth-day-beautification-fundraiser-275007/
DTSTAMP:20260420T143028
ORGANIZER;CN=Albany.com:X-ADDR:https://www.albany.com/event/downtown-troy-earth-day-beautification-fundraiser-275007/
LOCATION:
END:VEVENT
END:VCALENDAR
