BEGIN:VCALENDAR
VERSION:2.0
PRODID:-//Mannix Marketing//Albany.com ICS//EN
BEGIN:VEVENT
DTSTART:20260426T160000
SUMMARY:Stifel Stars on Ice
DESCRIPTION:U.S. Figure Skating returns from Milan with one of the most decorated American teams in Winter Olympic history - and now you can see them LIVE on the ice during the Stifel Stars on Ice 2026 tour! [Full Details at https://www.albany.com/event/stifel-stars-on-ice-275279/]
URL;VALUE=URI:https://www.albany.com/event/stifel-stars-on-ice-275279/
UID:https://www.albany.com/event/stifel-stars-on-ice-275279/
DTSTAMP:20260421T083156
ORGANIZER;CN=Albany.com:X-ADDR:https://www.albany.com/event/stifel-stars-on-ice-275279/
LOCATION:
END:VEVENT
END:VCALENDAR
