BEGIN:VCALENDAR
VERSION:2.0
PRODID:-//Mannix Marketing//Albany.com ICS//EN
BEGIN:VEVENT
DTSTART:20260425
SUMMARY:Spring Fest 2026
DESCRIPTION:Come make memories with us this Spring! Join us at Troy Botanical Garden for our annual Spring Festival on April 25th & 26th from 10 AM - 3 PM. [Full Details at https://www.albany.com/event/spring-fest-275282/]
URL;VALUE=URI:https://www.albany.com/event/spring-fest-275282/
UID:https://www.albany.com/event/spring-fest-275282/
DTSTAMP:20260420T231542
ORGANIZER;CN=Albany.com:X-ADDR:https://www.albany.com/event/spring-fest-275282/
LOCATION:
END:VEVENT
END:VCALENDAR
