BEGIN:VCALENDAR
VERSION:2.0
PRODID:-//Mannix Marketing//Albany.com ICS//EN
BEGIN:VEVENT
DTEND:20260430T193000
DTSTART:20260430T173000
SUMMARY:Tri-city Bmx Open House
DESCRIPTION:FREE OPEN HOUSE! Come check out the track, meet the coach, and learn what BMX racing is all about! Riders will have the opportunity to try the track & get a feel for the sport in a fun and welcoming e... [Full Details at https://www.albany.com/event/tri-city-bmx-open-house-275291/]
URL;VALUE=URI:https://www.albany.com/event/tri-city-bmx-open-house-275291/
UID:https://www.albany.com/event/tri-city-bmx-open-house-275291/
DTSTAMP:20260422T085156
ORGANIZER;CN=Albany.com:X-ADDR:https://www.albany.com/event/tri-city-bmx-open-house-275291/
LOCATION:
END:VEVENT
END:VCALENDAR
