BEGIN:VCALENDAR
VERSION:2.0
PRODID:-//Mannix Marketing//Albany.com ICS//EN
BEGIN:VEVENT
DTEND:20260610T210000
DTSTART:20260610T190000
SUMMARY:Improv Fundamentals 2 Class
DESCRIPTION:Wednesdays, 7-9 PM, June 10th - July 8th [Full Details at https://www.albany.com/event/improv-fundamentals-2-class-275311/]
URL;VALUE=URI:https://www.albany.com/event/improv-fundamentals-2-class-275311/
UID:https://www.albany.com/event/improv-fundamentals-2-class-275311/
DTSTAMP:20260422T021132
ORGANIZER;CN=Albany.com:X-ADDR:https://www.albany.com/event/improv-fundamentals-2-class-275311/
LOCATION:
END:VEVENT
END:VCALENDAR
