BEGIN:VCALENDAR
VERSION:2.0
PRODID:-//Mannix Marketing//Albany.com ICS//EN
BEGIN:VEVENT
DTSTART:20260430
SUMMARY:The 23rd Annual Dining Out For Life®
DESCRIPTION:Join us as we celebrate our 23rd year participating in Dining Out for Life®! [Full Details at https://www.albany.com/event/dining-out-for-life-31580/]
URL;VALUE=URI:https://www.albany.com/event/dining-out-for-life-31580/
UID:https://www.albany.com/event/dining-out-for-life-31580/
DTSTAMP:20260422T005003
ORGANIZER;CN=Albany.com:X-ADDR:https://www.albany.com/event/dining-out-for-life-31580/
LOCATION:
END:VEVENT
END:VCALENDAR
